BEGIN:VCALENDAR
VERSION:2.0
PRODID:-//Commune de Badevel - ECPv5.12.3//NONSGML v1.0//EN
CALSCALE:GREGORIAN
METHOD:PUBLISH
X-WR-CALNAME:Commune de Badevel
X-ORIGINAL-URL:https://badevel.fr
X-WR-CALDESC:évènements pour Commune de Badevel
REFRESH-INTERVAL;VALUE=DURATION:PT1H
X-Robots-Tag:noindex
X-PUBLISHED-TTL:PT1H
BEGIN:VTIMEZONE
TZID:Europe/Paris
BEGIN:DAYLIGHT
TZOFFSETFROM:+0100
TZOFFSETTO:+0200
TZNAME:CEST
DTSTART:20260329T010000
END:DAYLIGHT
BEGIN:STANDARD
TZOFFSETFROM:+0200
TZOFFSETTO:+0100
TZNAME:CET
DTSTART:20261025T010000
END:STANDARD
END:VTIMEZONE
BEGIN:VEVENT
DTSTART;TZID=Europe/Paris:20260308T140000
DTEND;TZID=Europe/Paris:20260308T180000
DTSTAMP:20260421T131941
CREATED:20260202T143009Z
LAST-MODIFIED:20260209T090723Z
UID:30370-1772978400-1772992800@badevel.fr
SUMMARY:Le Carnaval de Badevel fait son retour le dimanche 8 mars 2026
DESCRIPTION:Sortez vos plumes\, vos paillettes et vos déguisements les plus fous ! On vous attend pour une journée placée sous le signe de la fête et de la bonne humeur. \nLe carnaval organisée par la commune de Badevel aura lieu le dimanche 8 mars 2026 à partir de 14h00 départ place de la poste avec un défilé de chars\,… \nNous vous attendons nombreux.
URL:https://badevel.fr/event/le-carnaval-de-badevel-fait-son-retour-le-dimanche-8-mars-2026/
ATTACH;FMTTYPE=application/pdf:https://badevel.fr/wp-content/uploads/2026/02/carnaval-8-mars-26.pdf
END:VEVENT
END:VCALENDAR