BEGIN:VCALENDAR
VERSION:2.0
PRODID:-//Commune de Badevel - ECPv5.12.3//NONSGML v1.0//EN
CALSCALE:GREGORIAN
METHOD:PUBLISH
X-WR-CALNAME:Commune de Badevel
X-ORIGINAL-URL:https://badevel.fr
X-WR-CALDESC:évènements pour Commune de Badevel
REFRESH-INTERVAL;VALUE=DURATION:PT1H
X-Robots-Tag:noindex
X-PUBLISHED-TTL:PT1H
BEGIN:VTIMEZONE
TZID:Europe/Paris
BEGIN:DAYLIGHT
TZOFFSETFROM:+0100
TZOFFSETTO:+0200
TZNAME:CEST
DTSTART:20210328T010000
END:DAYLIGHT
BEGIN:STANDARD
TZOFFSETFROM:+0200
TZOFFSETTO:+0100
TZNAME:CET
DTSTART:20211031T010000
END:STANDARD
END:VTIMEZONE
BEGIN:VEVENT
DTSTART;TZID=Europe/Paris:20210827T190000
DTEND;TZID=Europe/Paris:20210827T230000
DTSTAMP:20260424T065150
CREATED:20210803T190152Z
LAST-MODIFIED:20210803T191029Z
UID:29511-1630090800-1630105200@badevel.fr
SUMMARY:Marché du soir à Badevel
DESCRIPTION:Le marché du soir de PMA arrive à Badevel le 27 aout. \nRetrouvez les produits et les artisans locaux sur la place de la poste. \nNous nous ferons un plaisir de vous accueillir dans le respect de règles sanitaires en vigueur !
URL:https://badevel.fr/event/marche-du-soir-a-badevel/
LOCATION:place de la poste\, Place de la poste\, Badevel\, 25490\, France
ATTACH;FMTTYPE=image/jpeg:https://badevel.fr/wp-content/uploads/2021/08/Calendrier_marches_du_soir_2021-scaled.jpg
END:VEVENT
END:VCALENDAR