BEGIN:VCALENDAR
VERSION:2.0
PRODID:-//Commune de Badevel - ECPv5.12.3//NONSGML v1.0//EN
CALSCALE:GREGORIAN
METHOD:PUBLISH
X-WR-CALNAME:Commune de Badevel
X-ORIGINAL-URL:https://badevel.fr
X-WR-CALDESC:évènements pour Commune de Badevel
REFRESH-INTERVAL;VALUE=DURATION:PT1H
X-Robots-Tag:noindex
X-PUBLISHED-TTL:PT1H
BEGIN:VTIMEZONE
TZID:Europe/Paris
BEGIN:DAYLIGHT
TZOFFSETFROM:+0100
TZOFFSETTO:+0200
TZNAME:CEST
DTSTART:20200329T010000
END:DAYLIGHT
BEGIN:STANDARD
TZOFFSETFROM:+0200
TZOFFSETTO:+0100
TZNAME:CET
DTSTART:20201025T010000
END:STANDARD
END:VTIMEZONE
BEGIN:VEVENT
DTSTART;TZID=Europe/Paris:20201009T080000
DTEND;TZID=Europe/Paris:20201009T170000
DTSTAMP:20260424T211833
CREATED:20201009T082047Z
LAST-MODIFIED:20201009T082047Z
UID:29120-1602230400-1602262800@badevel.fr
SUMMARY:Le nouveau site de Badevel !
DESCRIPTION:C’est officiel\, le nouveau site de Badevel est en ligne depuis aujourd’hui ! \nIl va continuer de s’enrichir au fil de l’eau et vous pourrez retrouver dans ses pages les publications de vos associations\, du périscolaire\, ainsi que les publications de la mairie. \n  \nA très bientôt !
URL:https://badevel.fr/event/le-nouveau-site-de-badevel/
END:VEVENT
END:VCALENDAR